BEGIN:VCALENDAR
VERSION:2.0
PRODID:-//www.arcnbc.org//NONSGML kigkonsult.se iCalcreator 2.30.10//
CALSCALE:GREGORIAN
METHOD:PUBLISH
UID:cb8ba34f-d4ab-41cc-87d3-9f5127200c18
X-WR-CALDESC:Registration Begins at 8:30 am\nRun\, Walk or Roll at 9:30 am
 \nPost Run\, Walk & Roll Festivities\n\nAre you Arc Strong?\nPlease join u
 s to support individuals with intellectual and developmental disabilities 
 from your region. Invite friends\, family\, and co-workers to sponsor you 
 and help The Arc.
X-WR-RELCALID:fc80c064c874fd09b0d80af9f84ec3d8
X-WR-TIMEZONE:America/New_York
BEGIN:VTIMEZONE
TZID:America/New_York
BEGIN:STANDARD
TZNAME:EST
DTSTART:20151101T020000
TZOFFSETFROM:-0400
TZOFFSETTO:-0500
RDATE:20161106T020000
RDATE:20171105T020000
END:STANDARD
BEGIN:DAYLIGHT
TZNAME:EDT
DTSTART:20160313T020000
TZOFFSETFROM:-0500
TZOFFSETTO:-0400
RDATE:20170312T020000
END:DAYLIGHT
END:VTIMEZONE
BEGIN:VEVENT
UID:05c6305b-93ff-47d4-a161-7fe0ff1470af
DTSTAMP:20260423T182528Z
DESCRIPTION:Registration Begins at 8:30 am\nRun\, Walk or Roll at 9:30 am\n
 Post Run\, Walk & Roll Festivities\n\nAre you Arc Strong?\nPlease join us 
 to support individuals with intellectual and developmental disabilities fr
 om your region. Invite friends\, family\, and co-workers to sponsor you an
 d help The Arc.
DTSTART;TZID=America/New_York:20160508T083000
DTEND;TZID=America/New_York:20160508T120000
LOCATION:Borderland State Park 259 Massapoag Avenue North Easton\, MA 02356
SUMMARY:Arc Strong - 5K Run\, Walk & Roll
END:VEVENT
END:VCALENDAR
