BEGIN:VCALENDAR
VERSION:2.0
PRODID:-//www.arcnbc.org//NONSGML kigkonsult.se iCalcreator 2.30.10//
CALSCALE:GREGORIAN
METHOD:PUBLISH
UID:8ba0bb21-8b05-4281-912c-e3f679cfe2f5
X-WR-CALDESC:
X-WR-RELCALID:b0920ee6d3c7d67bf0865db2ac95d29e
X-WR-TIMEZONE:America/New_York
BEGIN:VTIMEZONE
TZID:America/New_York
BEGIN:STANDARD
TZNAME:EST
DTSTART:20161106T020000
TZOFFSETFROM:-0400
TZOFFSETTO:-0500
RDATE:20171105T020000
END:STANDARD
BEGIN:DAYLIGHT
TZNAME:EDT
DTSTART:20160313T020000
TZOFFSETFROM:-0500
TZOFFSETTO:-0400
RDATE:20170312T020000
RDATE:20180311T020000
END:DAYLIGHT
END:VTIMEZONE
BEGIN:VEVENT
UID:3a14c3e2-6cec-4089-a52f-1e2178ee7ebc
DTSTAMP:20260423T183007Z
DESCRIPTION:
DTSTART;TZID=America/New_York:20161220T180000
DTEND;TZID=America/New_York:20161220T200000
LOCATION:East Providence Lanes
SUMMARY:Bowling
END:VEVENT
END:VCALENDAR
