BEGIN:VCALENDAR
VERSION:2.0
PRODID:-//www.arcnbc.org//NONSGML kigkonsult.se iCalcreator 2.30.10//
CALSCALE:GREGORIAN
METHOD:PUBLISH
UID:aa77ec30-3e84-443d-95cf-29145ef17c3d
X-WR-CALDESC:
X-WR-RELCALID:ee0c6e21ccdcd4fcd751621baf42e1cb
X-WR-TIMEZONE:America/New_York
BEGIN:VTIMEZONE
TZID:America/New_York
BEGIN:STANDARD
TZNAME:EST
DTSTART:20161106T020000
TZOFFSETFROM:-0400
TZOFFSETTO:-0500
RDATE:20171105T020000
END:STANDARD
BEGIN:DAYLIGHT
TZNAME:EDT
DTSTART:20160313T020000
TZOFFSETFROM:-0500
TZOFFSETTO:-0400
RDATE:20170312T020000
RDATE:20180311T020000
END:DAYLIGHT
END:VTIMEZONE
BEGIN:VEVENT
UID:1caeea53-76c7-41c0-9ab6-ad6d3b25859a
DTSTAMP:20260423T183006Z
DESCRIPTION:
DTSTART;TZID=America/New_York:20161222T190000
DTEND;TZID=America/New_York:20161222T210000
LOCATION:Potuguese American Civic Club 175 School st. Taunton\, MA  02780
SUMMARY:Fran's Dance
END:VEVENT
END:VCALENDAR
