BEGIN:VCALENDAR
VERSION:2.0
PRODID:-//www.arcnbc.org//NONSGML kigkonsult.se iCalcreator 2.30.10//
CALSCALE:GREGORIAN
METHOD:PUBLISH
UID:c1688e6c-91c5-41fc-a849-d252385b86bc
X-WR-CALDESC:The goals for Memory Cafés are to provide social connection\, 
 access to support\, and engaging activities for individuals living with me
 mory changes and their care partners.\nAn RSVP is kindly requested\nCare p
 artners must accompany guests\nFor further information please contact Donn
 a Brown \n508-226-1445 x 3105 or dbrown@arcnbc.org\nThe Arc’s Memory Café 
 is supported by funding from DDS\n
X-WR-RELCALID:68a882d46eaa2a8c6559fb20089d9093
X-WR-TIMEZONE:America/New_York
BEGIN:VTIMEZONE
TZID:America/New_York
BEGIN:STANDARD
TZNAME:EST
DTSTART:20161106T020000
TZOFFSETFROM:-0400
TZOFFSETTO:-0500
RDATE:20171105T020000
END:STANDARD
BEGIN:DAYLIGHT
TZNAME:EDT
DTSTART:20160313T020000
TZOFFSETFROM:-0500
TZOFFSETTO:-0400
RDATE:20170312T020000
RDATE:20180311T020000
END:DAYLIGHT
END:VTIMEZONE
BEGIN:VEVENT
UID:8f921904-ed30-4a1f-9761-f47f3326c636
DTSTAMP:20260423T183203Z
DESCRIPTION:The goals for Memory Cafés are to provide social connection\, a
 ccess to support\, and engaging activities for individuals living with mem
 ory changes and their care partners.\nAn RSVP is kindly requested\nCare pa
 rtners must accompany guests\nFor further information please contact Donna
  Brown \n508-226-1445 x 3105 or dbrown@arcnbc.org\nThe Arc’s Memory Café i
 s supported by funding from DDS\n
DTSTART;TZID=America/New_York:20161228T093000
DTEND;TZID=America/New_York:20161228T110000
LOCATION:Attleboro Public Library\, 74 North Main Street\, Attleboro\, MA 0
 2703
SUMMARY:Memory Cafe
END:VEVENT
END:VCALENDAR
