BEGIN:VCALENDAR
VERSION:2.0
PRODID:-//www.arcnbc.org//NONSGML kigkonsult.se iCalcreator 2.30.10//
CALSCALE:GREGORIAN
METHOD:PUBLISH
UID:b278b22f-f79d-47fb-9250-2fa057e1bc0a
X-WR-CALDESC:
X-WR-RELCALID:a9e454f4d4bd57b96ffa4852cfb0466d
X-WR-TIMEZONE:America/New_York
BEGIN:VTIMEZONE
TZID:America/New_York
BEGIN:STANDARD
TZNAME:EST
DTSTART:20161106T020000
TZOFFSETFROM:-0400
TZOFFSETTO:-0500
RDATE:20171105T020000
END:STANDARD
BEGIN:DAYLIGHT
TZNAME:EDT
DTSTART:20160313T020000
TZOFFSETFROM:-0500
TZOFFSETTO:-0400
RDATE:20170312T020000
RDATE:20180311T020000
END:DAYLIGHT
END:VTIMEZONE
BEGIN:VEVENT
UID:0d036f0e-4bf9-4e7c-a7a9-bb84f809692a
DTSTAMP:20260423T165510Z
DESCRIPTION:
DTSTART;TZID=America/New_York:20170103T180000
DTEND;TZID=America/New_York:20170103T213000
LOCATION:Arc Attleboro
SUMMARY:Dining with the Arc
END:VEVENT
END:VCALENDAR
