BEGIN:VCALENDAR
VERSION:2.0
PRODID:-//www.arcnbc.org//NONSGML kigkonsult.se iCalcreator 2.30.10//
CALSCALE:GREGORIAN
METHOD:PUBLISH
UID:f50b4ecb-cde0-49c7-976e-faa4589be0c0
X-WR-CALDESC:
X-WR-RELCALID:4d5aa3a1ce2bd90246996ef3069eccf6
X-WR-TIMEZONE:America/New_York
BEGIN:VTIMEZONE
TZID:America/New_York
BEGIN:STANDARD
TZNAME:EST
DTSTART:20161106T020000
TZOFFSETFROM:-0400
TZOFFSETTO:-0500
RDATE:20171105T020000
END:STANDARD
BEGIN:DAYLIGHT
TZNAME:EDT
DTSTART:20160313T020000
TZOFFSETFROM:-0500
TZOFFSETTO:-0400
RDATE:20170312T020000
RDATE:20180311T020000
END:DAYLIGHT
END:VTIMEZONE
BEGIN:VEVENT
UID:0a5dcf02-14eb-44f7-b0ce-87c37432375e
DTSTAMP:20260423T165646Z
DESCRIPTION:
DTSTART;TZID=America/New_York:20170109T150000
DTEND;TZID=America/New_York:20170109T170000
LOCATION:TARC
SUMMARY:Health & Wellness
END:VEVENT
END:VCALENDAR
