BEGIN:VCALENDAR
VERSION:2.0
PRODID:-//www.arcnbc.org//NONSGML kigkonsult.se iCalcreator 2.30.10//
CALSCALE:GREGORIAN
METHOD:PUBLISH
UID:d9f65f42-afd5-475a-9aed-ffb9ba00f52a
X-WR-CALDESC:New Employee Orientation
X-WR-RELCALID:52de209bdc13c1c0ad2c0375d50ecd00
X-WR-TIMEZONE:America/New_York
BEGIN:VTIMEZONE
TZID:America/New_York
BEGIN:STANDARD
TZNAME:EST
DTSTART:20161106T020000
TZOFFSETFROM:-0400
TZOFFSETTO:-0500
RDATE:20171105T020000
END:STANDARD
BEGIN:DAYLIGHT
TZNAME:EDT
DTSTART:20160313T020000
TZOFFSETFROM:-0500
TZOFFSETTO:-0400
RDATE:20170312T020000
RDATE:20180311T020000
END:DAYLIGHT
END:VTIMEZONE
BEGIN:VEVENT
UID:8bd560cf-e555-4656-92cd-0a68039ffb1c
DTSTAMP:20260423T165348Z
DESCRIPTION:New Employee Orientation
DTSTART;TZID=America/New_York:20170110T100000
DTEND;TZID=America/New_York:20170110T160000
LOCATION:141 Park Street
SUMMARY:Orientation
END:VEVENT
END:VCALENDAR
