BEGIN:VCALENDAR
VERSION:2.0
PRODID:-//www.arcnbc.org//NONSGML kigkonsult.se iCalcreator 2.30.10//
CALSCALE:GREGORIAN
METHOD:PUBLISH
UID:4c165502-18fd-485a-a933-5420b56c3244
X-WR-CALDESC:
X-WR-RELCALID:86cd4f2e20a30dbc313254a051f96380
X-WR-TIMEZONE:America/New_York
BEGIN:VTIMEZONE
TZID:America/New_York
BEGIN:STANDARD
TZNAME:EST
DTSTART:20161106T020000
TZOFFSETFROM:-0400
TZOFFSETTO:-0500
RDATE:20171105T020000
END:STANDARD
BEGIN:DAYLIGHT
TZNAME:EDT
DTSTART:20160313T020000
TZOFFSETFROM:-0500
TZOFFSETTO:-0400
RDATE:20170312T020000
RDATE:20180311T020000
END:DAYLIGHT
END:VTIMEZONE
BEGIN:VEVENT
UID:0be8aabc-c652-48b8-9fbc-648849c8f656
DTSTAMP:20260423T165244Z
DESCRIPTION:
DTSTART;TZID=America/New_York:20170111T150000
DTEND;TZID=America/New_York:20170111T170000
LOCATION:TARC
SUMMARY:Bingo
END:VEVENT
END:VCALENDAR
