BEGIN:VCALENDAR
VERSION:2.0
PRODID:-//www.arcnbc.org//NONSGML kigkonsult.se iCalcreator 2.30.10//
CALSCALE:GREGORIAN
METHOD:PUBLISH
UID:49ac29c3-a2ff-4878-af0b-5e06420cb4b1
X-WR-CALDESC:Non- Violent Crisis Intervention (NCI)
X-WR-RELCALID:fa5e3d2050427c7b20b7753da48a7239
X-WR-TIMEZONE:America/New_York
BEGIN:VTIMEZONE
TZID:America/New_York
BEGIN:STANDARD
TZNAME:EST
DTSTART:20161106T020000
TZOFFSETFROM:-0400
TZOFFSETTO:-0500
RDATE:20171105T020000
END:STANDARD
BEGIN:DAYLIGHT
TZNAME:EDT
DTSTART:20160313T020000
TZOFFSETFROM:-0500
TZOFFSETTO:-0400
RDATE:20170312T020000
RDATE:20180311T020000
END:DAYLIGHT
END:VTIMEZONE
BEGIN:VEVENT
UID:2bd0e7e8-62b6-4a80-b63c-32fb35ceb403
DTSTAMP:20260423T165348Z
DESCRIPTION:Non- Violent Crisis Intervention (NCI)
DTSTART;TZID=America/New_York:20170111T093000
DTEND;TZID=America/New_York:20170111T153000
LOCATION:141 Park Street
SUMMARY:NCI
END:VEVENT
END:VCALENDAR
