BEGIN:VCALENDAR
VERSION:2.0
PRODID:-//www.arcnbc.org//NONSGML kigkonsult.se iCalcreator 2.30.10//
CALSCALE:GREGORIAN
METHOD:PUBLISH
UID:6af1c41b-d4a5-48b7-8e0d-d10df9e7db50
X-WR-CALDESC:
X-WR-RELCALID:a712ad0eef58bf6f206984494a911f8e
X-WR-TIMEZONE:America/New_York
BEGIN:VTIMEZONE
TZID:America/New_York
BEGIN:STANDARD
TZNAME:EST
DTSTART:20161106T020000
TZOFFSETFROM:-0400
TZOFFSETTO:-0500
RDATE:20171105T020000
END:STANDARD
BEGIN:DAYLIGHT
TZNAME:EDT
DTSTART:20160313T020000
TZOFFSETFROM:-0500
TZOFFSETTO:-0400
RDATE:20170312T020000
RDATE:20180311T020000
END:DAYLIGHT
END:VTIMEZONE
BEGIN:VEVENT
UID:577acd32-11bd-4b36-8c1d-924ec7664aaa
DTSTAMP:20260423T165921Z
DESCRIPTION:
DTSTART;TZID=America/New_York:20170113T173000
DTEND;TZID=America/New_York:20170113T230000
LOCATION:Arc Attleboro
SUMMARY:'Mary Poppins' Show
END:VEVENT
END:VCALENDAR
