BEGIN:VCALENDAR
VERSION:2.0
PRODID:-//www.arcnbc.org//NONSGML kigkonsult.se iCalcreator 2.30.10//
CALSCALE:GREGORIAN
METHOD:PUBLISH
UID:34cb8ce1-415a-491f-9860-f1ba3ae4c5b9
X-WR-CALDESC:
X-WR-RELCALID:a743a6d3e413e8ffa03df851c619ef5c
X-WR-TIMEZONE:America/New_York
BEGIN:VTIMEZONE
TZID:America/New_York
BEGIN:STANDARD
TZNAME:EST
DTSTART:20161106T020000
TZOFFSETFROM:-0400
TZOFFSETTO:-0500
RDATE:20171105T020000
END:STANDARD
BEGIN:DAYLIGHT
TZNAME:EDT
DTSTART:20160313T020000
TZOFFSETFROM:-0500
TZOFFSETTO:-0400
RDATE:20170312T020000
RDATE:20180311T020000
END:DAYLIGHT
END:VTIMEZONE
BEGIN:VEVENT
UID:00ac9131-1951-4f10-b4a8-03f90a8c8321
DTSTAMP:20260423T165953Z
DESCRIPTION:
DTSTART;TZID=America/New_York:20170119T163000
DTEND;TZID=America/New_York:20170119T190000
LOCATION:TARC
SUMMARY:Movie Night
END:VEVENT
END:VCALENDAR
