BEGIN:VCALENDAR
VERSION:2.0
PRODID:-//www.arcnbc.org//NONSGML kigkonsult.se iCalcreator 2.30.10//
CALSCALE:GREGORIAN
METHOD:PUBLISH
UID:61d862d8-a408-4f19-8f74-ed966f3cae8e
X-WR-CALDESC:
X-WR-RELCALID:31b8fcc509a4b42d707e1583a894f404
X-WR-TIMEZONE:America/New_York
BEGIN:VTIMEZONE
TZID:America/New_York
BEGIN:STANDARD
TZNAME:EST
DTSTART:20161106T020000
TZOFFSETFROM:-0400
TZOFFSETTO:-0500
RDATE:20171105T020000
END:STANDARD
BEGIN:DAYLIGHT
TZNAME:EDT
DTSTART:20160313T020000
TZOFFSETFROM:-0500
TZOFFSETTO:-0400
RDATE:20170312T020000
RDATE:20180311T020000
END:DAYLIGHT
END:VTIMEZONE
BEGIN:VEVENT
UID:e0e277ef-8dc1-45d8-933a-586c95a2c76b
DTSTAMP:20260423T165745Z
DESCRIPTION:
DTSTART;TZID=America/New_York:20170119T173000
DTEND;TZID=America/New_York:20170119T223000
LOCATION:Arc Attleboro
SUMMARY:College Hockey
END:VEVENT
END:VCALENDAR
