BEGIN:VCALENDAR
VERSION:2.0
PRODID:-//www.arcnbc.org//NONSGML kigkonsult.se iCalcreator 2.30.10//
CALSCALE:GREGORIAN
METHOD:PUBLISH
UID:429eeb95-62de-41ec-8663-582165632a09
X-WR-CALDESC:
X-WR-RELCALID:2d096176b23e856cf1ae56c9c5d97045
X-WR-TIMEZONE:America/New_York
BEGIN:VTIMEZONE
TZID:America/New_York
BEGIN:STANDARD
TZNAME:EST
DTSTART:20161106T020000
TZOFFSETFROM:-0400
TZOFFSETTO:-0500
RDATE:20171105T020000
END:STANDARD
BEGIN:DAYLIGHT
TZNAME:EDT
DTSTART:20160313T020000
TZOFFSETFROM:-0500
TZOFFSETTO:-0400
RDATE:20170312T020000
RDATE:20180311T020000
END:DAYLIGHT
END:VTIMEZONE
BEGIN:VEVENT
UID:39e57fdb-7536-4d69-b76a-374c405bdc7c
DTSTAMP:20260423T165806Z
DESCRIPTION:
DTSTART;TZID=America/New_York:20170120T190000
DTEND;TZID=America/New_York:20170120T210000
LOCATION:Attleboro YMCA Pleasant St. Branch
SUMMARY:GO Night
END:VEVENT
END:VCALENDAR
