BEGIN:VCALENDAR
VERSION:2.0
PRODID:-//www.arcnbc.org//NONSGML kigkonsult.se iCalcreator 2.30.10//
CALSCALE:GREGORIAN
METHOD:PUBLISH
UID:78a10c5a-70a8-4cc6-8691-69aa95a2adb5
X-WR-CALDESC:
X-WR-RELCALID:9b19f2b67e6ed6e7f2c58fbe74097319
X-WR-TIMEZONE:America/New_York
BEGIN:VTIMEZONE
TZID:America/New_York
BEGIN:STANDARD
TZNAME:EST
DTSTART:20161106T020000
TZOFFSETFROM:-0400
TZOFFSETTO:-0500
RDATE:20171105T020000
END:STANDARD
BEGIN:DAYLIGHT
TZNAME:EDT
DTSTART:20160313T020000
TZOFFSETFROM:-0500
TZOFFSETTO:-0400
RDATE:20170312T020000
RDATE:20180311T020000
END:DAYLIGHT
END:VTIMEZONE
BEGIN:VEVENT
UID:b2178216-6d9b-488b-97c0-465b3ad6ca52
DTSTAMP:20260423T170041Z
DESCRIPTION:
DTSTART;TZID=America/New_York:20170123T150000
DTEND;TZID=America/New_York:20170123T170000
LOCATION:TARC
SUMMARY:Health & Wellness
END:VEVENT
END:VCALENDAR
