BEGIN:VCALENDAR
VERSION:2.0
PRODID:-//www.arcnbc.org//NONSGML kigkonsult.se iCalcreator 2.30.10//
CALSCALE:GREGORIAN
METHOD:PUBLISH
UID:09d41b7b-aad7-4a20-9f59-e132c2939f75
X-WR-CALDESC:
X-WR-RELCALID:aff221b9363e1350816e2388e0019dae
X-WR-TIMEZONE:America/New_York
BEGIN:VTIMEZONE
TZID:America/New_York
BEGIN:STANDARD
TZNAME:EST
DTSTART:20161106T020000
TZOFFSETFROM:-0400
TZOFFSETTO:-0500
RDATE:20171105T020000
END:STANDARD
BEGIN:DAYLIGHT
TZNAME:EDT
DTSTART:20160313T020000
TZOFFSETFROM:-0500
TZOFFSETTO:-0400
RDATE:20170312T020000
RDATE:20180311T020000
END:DAYLIGHT
END:VTIMEZONE
BEGIN:VEVENT
UID:886e2ed7-f45c-4d89-b37d-9e875036f39f
DTSTAMP:20260423T165520Z
DESCRIPTION:
DTSTART;TZID=America/New_York:20170123T170000
DTEND;TZID=America/New_York:20170123T213000
LOCATION:Arc Attleboro
SUMMARY:Dinner & Movie
END:VEVENT
END:VCALENDAR
