BEGIN:VCALENDAR
VERSION:2.0
PRODID:-//www.arcnbc.org//NONSGML kigkonsult.se iCalcreator 2.30.10//
CALSCALE:GREGORIAN
METHOD:PUBLISH
UID:d26f311c-b734-4aa4-b038-6f5fbe5ea3dc
X-WR-CALDESC:
X-WR-RELCALID:e4fb5916ae63d15ef7aa38a749873cb7
X-WR-TIMEZONE:America/New_York
BEGIN:VTIMEZONE
TZID:America/New_York
BEGIN:STANDARD
TZNAME:EST
DTSTART:20161106T020000
TZOFFSETFROM:-0400
TZOFFSETTO:-0500
RDATE:20171105T020000
END:STANDARD
BEGIN:DAYLIGHT
TZNAME:EDT
DTSTART:20160313T020000
TZOFFSETFROM:-0500
TZOFFSETTO:-0400
RDATE:20170312T020000
RDATE:20180311T020000
END:DAYLIGHT
END:VTIMEZONE
BEGIN:VEVENT
UID:b1a6dc2a-3ce4-4cc1-a57d-82e85274b2e7
DTSTAMP:20260423T165629Z
DESCRIPTION:
DTSTART;TZID=America/New_York:20170126T190000
DTEND;TZID=America/New_York:20170126T210000
LOCATION:Portuguese American Civic Club 175 School St. Taunton
SUMMARY:Fran's Dance
END:VEVENT
END:VCALENDAR
