BEGIN:VCALENDAR
VERSION:2.0
PRODID:-//www.arcnbc.org//NONSGML kigkonsult.se iCalcreator 2.30.10//
CALSCALE:GREGORIAN
METHOD:PUBLISH
UID:9181dad7-de13-410e-82c3-de179c6db8a7
X-WR-CALDESC:New Employee Orientation
X-WR-RELCALID:74b606e516ff842e2b1ae625fcc44852
X-WR-TIMEZONE:America/New_York
BEGIN:VTIMEZONE
TZID:America/New_York
BEGIN:STANDARD
TZNAME:EST
DTSTART:20161106T020000
TZOFFSETFROM:-0400
TZOFFSETTO:-0500
RDATE:20171105T020000
END:STANDARD
BEGIN:DAYLIGHT
TZNAME:EDT
DTSTART:20160313T020000
TZOFFSETFROM:-0500
TZOFFSETTO:-0400
RDATE:20170312T020000
RDATE:20180311T020000
END:DAYLIGHT
END:VTIMEZONE
BEGIN:VEVENT
UID:3bc9cb7a-6b66-4201-85d0-b668cf891d9d
DTSTAMP:20260423T165348Z
DESCRIPTION:New Employee Orientation
DTSTART;TZID=America/New_York:20170126T100000
DTEND;TZID=America/New_York:20170126T160000
LOCATION:141 Park Street
SUMMARY:Orientation
END:VEVENT
END:VCALENDAR
