BEGIN:VCALENDAR
VERSION:2.0
PRODID:-//www.arcnbc.org//NONSGML kigkonsult.se iCalcreator 2.30.10//
CALSCALE:GREGORIAN
METHOD:PUBLISH
UID:d9d0a956-2720-4c5d-8009-8e6df2a587e0
X-WR-CALDESC:
X-WR-RELCALID:36c8e1014c44f37f8cae2ddd095dcd69
X-WR-TIMEZONE:America/New_York
BEGIN:VTIMEZONE
TZID:America/New_York
BEGIN:STANDARD
TZNAME:EST
DTSTART:20161106T020000
TZOFFSETFROM:-0400
TZOFFSETTO:-0500
RDATE:20171105T020000
END:STANDARD
BEGIN:DAYLIGHT
TZNAME:EDT
DTSTART:20160313T020000
TZOFFSETFROM:-0500
TZOFFSETTO:-0400
RDATE:20170312T020000
RDATE:20180311T020000
END:DAYLIGHT
END:VTIMEZONE
BEGIN:VEVENT
UID:531f2554-94f6-4eb1-af47-0494c70021cb
DTSTAMP:20260423T165403Z
DESCRIPTION:
DTSTART;TZID=America/New_York:20170127T090000
DTEND;TZID=America/New_York:20170127T150000
LOCATION:141 Park Street
SUMMARY:First Aid/CPR
END:VEVENT
END:VCALENDAR
