BEGIN:VCALENDAR
VERSION:2.0
PRODID:-//www.arcnbc.org//NONSGML kigkonsult.se iCalcreator 2.30.10//
CALSCALE:GREGORIAN
METHOD:PUBLISH
UID:48834da9-d034-4020-8d3a-e8671c2705be
X-WR-CALDESC:
X-WR-RELCALID:303ab88b8ac16b24ba37981611dfab1b
X-WR-TIMEZONE:America/New_York
BEGIN:VTIMEZONE
TZID:America/New_York
BEGIN:STANDARD
TZNAME:EST
DTSTART:20161106T020000
TZOFFSETFROM:-0400
TZOFFSETTO:-0500
RDATE:20171105T020000
END:STANDARD
BEGIN:DAYLIGHT
TZNAME:EDT
DTSTART:20160313T020000
TZOFFSETFROM:-0500
TZOFFSETTO:-0400
RDATE:20170312T020000
RDATE:20180311T020000
END:DAYLIGHT
END:VTIMEZONE
BEGIN:VEVENT
UID:4bb34923-5feb-4778-9faa-b56ba669036c
DTSTAMP:20260423T170051Z
DESCRIPTION:
DTSTART;TZID=America/New_York:20170130T150000
DTEND;TZID=America/New_York:20170130T170000
LOCATION:TARC
SUMMARY:Health & Wellness
END:VEVENT
END:VCALENDAR
