BEGIN:VCALENDAR
VERSION:2.0
PRODID:-//www.arcnbc.org//NONSGML kigkonsult.se iCalcreator 2.30.10//
CALSCALE:GREGORIAN
METHOD:PUBLISH
UID:ce2a3c40-fae4-4f95-b432-8e7c3d2ecc79
X-WR-CALDESC:
X-WR-RELCALID:fc51823ee41395b2e0436156e895bcf5
X-WR-TIMEZONE:America/New_York
BEGIN:VTIMEZONE
TZID:America/New_York
BEGIN:STANDARD
TZNAME:EST
DTSTART:20161106T020000
TZOFFSETFROM:-0400
TZOFFSETTO:-0500
RDATE:20171105T020000
END:STANDARD
BEGIN:DAYLIGHT
TZNAME:EDT
DTSTART:20160313T020000
TZOFFSETFROM:-0500
TZOFFSETTO:-0400
RDATE:20170312T020000
RDATE:20180311T020000
END:DAYLIGHT
END:VTIMEZONE
BEGIN:VEVENT
UID:9c5ddda4-76cc-424a-b6ff-2a08c4968480
DTSTAMP:20260423T165626Z
DESCRIPTION:
DTSTART;TZID=America/New_York:20170130T163000
DTEND;TZID=America/New_York:20170130T183000
LOCATION:Arc Attleboro
SUMMARY:Horse Therapy
END:VEVENT
END:VCALENDAR
