BEGIN:VCALENDAR
VERSION:2.0
PRODID:-//www.arcnbc.org//NONSGML kigkonsult.se iCalcreator 2.30.10//
CALSCALE:GREGORIAN
METHOD:PUBLISH
UID:905bfd34-1e3c-4436-a4a2-5a39ac1d7e18
X-WR-CALDESC:
X-WR-RELCALID:d342a418426188bfc768e4c588fc62e3
X-WR-TIMEZONE:America/New_York
BEGIN:VTIMEZONE
TZID:America/New_York
BEGIN:STANDARD
TZNAME:EST
DTSTART:20161106T020000
TZOFFSETFROM:-0400
TZOFFSETTO:-0500
RDATE:20171105T020000
END:STANDARD
BEGIN:DAYLIGHT
TZNAME:EDT
DTSTART:20160313T020000
TZOFFSETFROM:-0500
TZOFFSETTO:-0400
RDATE:20170312T020000
RDATE:20180311T020000
END:DAYLIGHT
END:VTIMEZONE
BEGIN:VEVENT
UID:7047c407-6ba0-4ab2-8862-808c01e1a058
DTSTAMP:20260423T165249Z
DESCRIPTION:
DTSTART;TZID=America/New_York:20170131T180000
DTEND;TZID=America/New_York:20170131T200000
LOCATION:East Proviidence Lanes
SUMMARY:Bowling
END:VEVENT
END:VCALENDAR
