BEGIN:VCALENDAR
VERSION:2.0
PRODID:-//www.arcnbc.org//NONSGML kigkonsult.se iCalcreator 2.30.10//
CALSCALE:GREGORIAN
METHOD:PUBLISH
UID:6dbcaad2-884d-4a91-9db3-7c83945a452a
X-WR-CALDESC:
X-WR-RELCALID:43189481eb6f19f1f3abff85e1ee4b4a
X-WR-TIMEZONE:America/New_York
BEGIN:VTIMEZONE
TZID:America/New_York
BEGIN:STANDARD
TZNAME:EST
DTSTART:20161106T020000
TZOFFSETFROM:-0400
TZOFFSETTO:-0500
RDATE:20171105T020000
END:STANDARD
BEGIN:DAYLIGHT
TZNAME:EDT
DTSTART:20160313T020000
TZOFFSETFROM:-0500
TZOFFSETTO:-0400
RDATE:20170312T020000
RDATE:20180311T020000
END:DAYLIGHT
END:VTIMEZONE
BEGIN:VEVENT
UID:c2d08a8f-87cd-431f-a8c3-1d3d2cdb7d6b
DTSTAMP:20260423T165805Z
DESCRIPTION:
DTSTART;TZID=America/New_York:20170203T190000
DTEND;TZID=America/New_York:20170203T230000
LOCATION:Arc Attleboro
SUMMARY:'Our Town' Show
END:VEVENT
END:VCALENDAR
