BEGIN:VCALENDAR
VERSION:2.0
PRODID:-//www.arcnbc.org//NONSGML kigkonsult.se iCalcreator 2.30.10//
CALSCALE:GREGORIAN
METHOD:PUBLISH
UID:9acb9eee-6204-4aef-bc6f-fa28ea0d3c63
X-WR-CALDESC:
X-WR-RELCALID:f4eb49c0cc03489b873ab72458d8d89b
X-WR-TIMEZONE:America/New_York
BEGIN:VTIMEZONE
TZID:America/New_York
BEGIN:STANDARD
TZNAME:EST
DTSTART:20161106T020000
TZOFFSETFROM:-0400
TZOFFSETTO:-0500
RDATE:20171105T020000
END:STANDARD
BEGIN:DAYLIGHT
TZNAME:EDT
DTSTART:20160313T020000
TZOFFSETFROM:-0500
TZOFFSETTO:-0400
RDATE:20170312T020000
RDATE:20180311T020000
END:DAYLIGHT
END:VTIMEZONE
BEGIN:VEVENT
UID:6af6a7c3-9db3-4a46-9e53-db62366464e2
DTSTAMP:20260423T165637Z
DESCRIPTION:
DTSTART;TZID=America/New_York:20170204T120000
DTEND;TZID=America/New_York:20170204T150000
LOCATION:Arc Attleboro
SUMMARY:College Basketball
END:VEVENT
END:VCALENDAR
