BEGIN:VCALENDAR
VERSION:2.0
PRODID:-//www.arcnbc.org//NONSGML kigkonsult.se iCalcreator 2.30.10//
CALSCALE:GREGORIAN
METHOD:PUBLISH
UID:958ea852-415b-4fda-9864-e6cd0a3c1074
X-WR-CALDESC:
X-WR-RELCALID:54201a371a680594c95004d6c6299ec6
X-WR-TIMEZONE:America/New_York
BEGIN:VTIMEZONE
TZID:America/New_York
BEGIN:STANDARD
TZNAME:EST
DTSTART:20161106T020000
TZOFFSETFROM:-0400
TZOFFSETTO:-0500
RDATE:20171105T020000
END:STANDARD
BEGIN:DAYLIGHT
TZNAME:EDT
DTSTART:20160313T020000
TZOFFSETFROM:-0500
TZOFFSETTO:-0400
RDATE:20170312T020000
RDATE:20180311T020000
END:DAYLIGHT
END:VTIMEZONE
BEGIN:VEVENT
UID:422f984e-84f9-41b1-b403-5322fa0293c2
DTSTAMP:20260423T170039Z
DESCRIPTION:
DTSTART;TZID=America/New_York:20170206T150000
DTEND;TZID=America/New_York:20170206T170000
LOCATION:TARC
SUMMARY:Health & Wellness
END:VEVENT
END:VCALENDAR
