BEGIN:VCALENDAR
VERSION:2.0
PRODID:-//www.arcnbc.org//NONSGML kigkonsult.se iCalcreator 2.30.10//
CALSCALE:GREGORIAN
METHOD:PUBLISH
UID:70d5cb34-f904-457d-a36b-f1935db10c3b
X-WR-CALDESC:
X-WR-RELCALID:7fdc1e60c13fe04b118e852256a5226b
X-WR-TIMEZONE:America/New_York
BEGIN:VTIMEZONE
TZID:America/New_York
BEGIN:STANDARD
TZNAME:EST
DTSTART:20161106T020000
TZOFFSETFROM:-0400
TZOFFSETTO:-0500
RDATE:20171105T020000
END:STANDARD
BEGIN:DAYLIGHT
TZNAME:EDT
DTSTART:20160313T020000
TZOFFSETFROM:-0500
TZOFFSETTO:-0400
RDATE:20170312T020000
RDATE:20180311T020000
END:DAYLIGHT
END:VTIMEZONE
BEGIN:VEVENT
UID:ee607d93-e682-40af-8a10-76c269908edb
DTSTAMP:20260423T165242Z
DESCRIPTION:
DTSTART;TZID=America/New_York:20170206T160000
DTEND;TZID=America/New_York:20170206T210000
LOCATION:Arc Attleboro
SUMMARY:Dave & Busters
END:VEVENT
END:VCALENDAR
