BEGIN:VCALENDAR
VERSION:2.0
PRODID:-//www.arcnbc.org//NONSGML kigkonsult.se iCalcreator 2.30.10//
CALSCALE:GREGORIAN
METHOD:PUBLISH
UID:c2e7ee45-2589-4205-ae83-6ec25801a475
X-WR-CALDESC:
X-WR-RELCALID:36ca87d76a573c631e68d22dc394269e
X-WR-TIMEZONE:America/New_York
BEGIN:VTIMEZONE
TZID:America/New_York
BEGIN:STANDARD
TZNAME:EST
DTSTART:20161106T020000
TZOFFSETFROM:-0400
TZOFFSETTO:-0500
RDATE:20171105T020000
END:STANDARD
BEGIN:DAYLIGHT
TZNAME:EDT
DTSTART:20160313T020000
TZOFFSETFROM:-0500
TZOFFSETTO:-0400
RDATE:20170312T020000
RDATE:20180311T020000
END:DAYLIGHT
END:VTIMEZONE
BEGIN:VEVENT
UID:deab004d-7835-4c08-bbbc-512f2683663e
DTSTAMP:20260423T165246Z
DESCRIPTION:
DTSTART;TZID=America/New_York:20170208T150000
DTEND;TZID=America/New_York:20170208T170000
LOCATION:TARC
SUMMARY:Bingo
END:VEVENT
END:VCALENDAR
