BEGIN:VCALENDAR
VERSION:2.0
PRODID:-//www.arcnbc.org//NONSGML kigkonsult.se iCalcreator 2.30.10//
CALSCALE:GREGORIAN
METHOD:PUBLISH
UID:0f0bde8f-a0b6-4d13-acbb-cb7e4d4147a9
X-WR-CALDESC:New Employee Orientation
X-WR-RELCALID:51f7389754d31932c45f7d586466eea1
X-WR-TIMEZONE:America/New_York
BEGIN:VTIMEZONE
TZID:America/New_York
BEGIN:STANDARD
TZNAME:EST
DTSTART:20161106T020000
TZOFFSETFROM:-0400
TZOFFSETTO:-0500
RDATE:20171105T020000
END:STANDARD
BEGIN:DAYLIGHT
TZNAME:EDT
DTSTART:20160313T020000
TZOFFSETFROM:-0500
TZOFFSETTO:-0400
RDATE:20170312T020000
RDATE:20180311T020000
END:DAYLIGHT
END:VTIMEZONE
BEGIN:VEVENT
UID:7e32fc83-aec9-4bab-aefe-53fb2b0e0b21
DTSTAMP:20260423T165244Z
DESCRIPTION:New Employee Orientation
DTSTART;TZID=America/New_York:20170208T100000
DTEND;TZID=America/New_York:20170208T160000
LOCATION:141 Park Street
SUMMARY:Orientation
END:VEVENT
END:VCALENDAR
