BEGIN:VCALENDAR
VERSION:2.0
PRODID:-//www.arcnbc.org//NONSGML kigkonsult.se iCalcreator 2.30.10//
CALSCALE:GREGORIAN
METHOD:PUBLISH
UID:e62f176f-5603-419a-a2ed-1bd55fa8a5d3
X-WR-CALDESC:
X-WR-RELCALID:fa688a549b12f48374a92794b0050e3c
X-WR-TIMEZONE:America/New_York
BEGIN:VTIMEZONE
TZID:America/New_York
BEGIN:STANDARD
TZNAME:EST
DTSTART:20161106T020000
TZOFFSETFROM:-0400
TZOFFSETTO:-0500
RDATE:20171105T020000
END:STANDARD
BEGIN:DAYLIGHT
TZNAME:EDT
DTSTART:20160313T020000
TZOFFSETFROM:-0500
TZOFFSETTO:-0400
RDATE:20170312T020000
RDATE:20180311T020000
END:DAYLIGHT
END:VTIMEZONE
BEGIN:VEVENT
UID:a0180b67-0fc7-41eb-bd77-721f1715f4b1
DTSTAMP:20260423T165932Z
DESCRIPTION:
DTSTART;TZID=America/New_York:20170209T163000
DTEND;TZID=America/New_York:20170209T190000
LOCATION:TARC
SUMMARY:Movie Night
END:VEVENT
END:VCALENDAR
