BEGIN:VCALENDAR
VERSION:2.0
PRODID:-//www.arcnbc.org//NONSGML kigkonsult.se iCalcreator 2.30.10//
CALSCALE:GREGORIAN
METHOD:PUBLISH
UID:11b0cfb8-9fe0-4c0a-9fc2-b06f210b6c1e
X-WR-CALDESC:Non- Violent Crisis Intervention (NCI)
X-WR-RELCALID:a537201cb76b581b5be203c948c6bf94
X-WR-TIMEZONE:America/New_York
BEGIN:VTIMEZONE
TZID:America/New_York
BEGIN:STANDARD
TZNAME:EST
DTSTART:20161106T020000
TZOFFSETFROM:-0400
TZOFFSETTO:-0500
RDATE:20171105T020000
END:STANDARD
BEGIN:DAYLIGHT
TZNAME:EDT
DTSTART:20160313T020000
TZOFFSETFROM:-0500
TZOFFSETTO:-0400
RDATE:20170312T020000
RDATE:20180311T020000
END:DAYLIGHT
END:VTIMEZONE
BEGIN:VEVENT
UID:f8aa3331-723a-4e47-a284-2e0c60466a9e
DTSTAMP:20260423T165348Z
DESCRIPTION:Non- Violent Crisis Intervention (NCI)
DTSTART;TZID=America/New_York:20170210T093000
DTEND;TZID=America/New_York:20170210T153000
LOCATION:141 Park Street
SUMMARY:NCI
END:VEVENT
END:VCALENDAR
