BEGIN:VCALENDAR
VERSION:2.0
PRODID:-//www.arcnbc.org//NONSGML kigkonsult.se iCalcreator 2.30.10//
CALSCALE:GREGORIAN
METHOD:PUBLISH
UID:55383463-6ba0-434e-9da3-bf807fdf6f70
X-WR-CALDESC:
X-WR-RELCALID:70f8a2d4a60d958fa9323552a29cf80e
X-WR-TIMEZONE:America/New_York
BEGIN:VTIMEZONE
TZID:America/New_York
BEGIN:STANDARD
TZNAME:EST
DTSTART:20161106T020000
TZOFFSETFROM:-0400
TZOFFSETTO:-0500
RDATE:20171105T020000
END:STANDARD
BEGIN:DAYLIGHT
TZNAME:EDT
DTSTART:20160313T020000
TZOFFSETFROM:-0500
TZOFFSETTO:-0400
RDATE:20170312T020000
RDATE:20180311T020000
END:DAYLIGHT
END:VTIMEZONE
BEGIN:VEVENT
UID:13a70896-bbf8-4fba-98cc-407868a5e974
DTSTAMP:20260423T165920Z
DESCRIPTION:
DTSTART;TZID=America/New_York:20170210T120000
DTEND;TZID=America/New_York:20170210T190000
LOCATION:Arc Attleboro
SUMMARY:Snow Tubing- Cancelled
END:VEVENT
END:VCALENDAR
