BEGIN:VCALENDAR
VERSION:2.0
PRODID:-//www.arcnbc.org//NONSGML kigkonsult.se iCalcreator 2.30.10//
CALSCALE:GREGORIAN
METHOD:PUBLISH
UID:716c70bf-189f-4a8a-8a4f-af1c8c4544a1
X-WR-CALDESC:
X-WR-RELCALID:5e3d0c2974a0b16364941bb5afa66daa
X-WR-TIMEZONE:America/New_York
BEGIN:VTIMEZONE
TZID:America/New_York
BEGIN:STANDARD
TZNAME:EST
DTSTART:20161106T020000
TZOFFSETFROM:-0400
TZOFFSETTO:-0500
RDATE:20171105T020000
END:STANDARD
BEGIN:DAYLIGHT
TZNAME:EDT
DTSTART:20160313T020000
TZOFFSETFROM:-0500
TZOFFSETTO:-0400
RDATE:20170312T020000
RDATE:20180311T020000
END:DAYLIGHT
END:VTIMEZONE
BEGIN:VEVENT
UID:2399585f-0f11-406e-ba3e-7da5d1a7dcc0
DTSTAMP:20260423T165647Z
DESCRIPTION:
DTSTART;TZID=America/New_York:20170211T110000
DTEND;TZID=America/New_York:20170211T163000
LOCATION:Arc Attleboro
SUMMARY:Lunch & Movie
END:VEVENT
END:VCALENDAR
