BEGIN:VCALENDAR
VERSION:2.0
PRODID:-//www.arcnbc.org//NONSGML kigkonsult.se iCalcreator 2.30.10//
CALSCALE:GREGORIAN
METHOD:PUBLISH
UID:1df2b9e8-af3f-400b-82d8-3b68923b2b49
X-WR-CALDESC:
X-WR-RELCALID:5ac8560873f4479911d311cd55627002
X-WR-TIMEZONE:America/New_York
BEGIN:VTIMEZONE
TZID:America/New_York
BEGIN:STANDARD
TZNAME:EST
DTSTART:20161106T020000
TZOFFSETFROM:-0400
TZOFFSETTO:-0500
RDATE:20171105T020000
END:STANDARD
BEGIN:DAYLIGHT
TZNAME:EDT
DTSTART:20160313T020000
TZOFFSETFROM:-0500
TZOFFSETTO:-0400
RDATE:20170312T020000
RDATE:20180311T020000
END:DAYLIGHT
END:VTIMEZONE
BEGIN:VEVENT
UID:38a1181e-c1b5-4b40-89ae-86ade4f09c0a
DTSTAMP:20260423T165520Z
DESCRIPTION:
DTSTART;TZID=America/New_York:20170213T163000
DTEND;TZID=America/New_York:20170213T183000
LOCATION:Arc Attleboro
SUMMARY:Horse Therapy
END:VEVENT
END:VCALENDAR
