BEGIN:VCALENDAR
VERSION:2.0
PRODID:-//www.arcnbc.org//NONSGML kigkonsult.se iCalcreator 2.30.10//
CALSCALE:GREGORIAN
METHOD:PUBLISH
UID:fbc5e4a2-71c3-4951-9a67-d874309bac32
X-WR-CALDESC:
X-WR-RELCALID:93f320aaa1a24aae66978a3d0217c9ec
X-WR-TIMEZONE:America/New_York
BEGIN:VTIMEZONE
TZID:America/New_York
BEGIN:STANDARD
TZNAME:EST
DTSTART:20161106T020000
TZOFFSETFROM:-0400
TZOFFSETTO:-0500
RDATE:20171105T020000
END:STANDARD
BEGIN:DAYLIGHT
TZNAME:EDT
DTSTART:20160313T020000
TZOFFSETFROM:-0500
TZOFFSETTO:-0400
RDATE:20170312T020000
RDATE:20180311T020000
END:DAYLIGHT
END:VTIMEZONE
BEGIN:VEVENT
UID:a595962f-5c88-4358-886a-91024089f24f
DTSTAMP:20260423T170110Z
DESCRIPTION:
DTSTART;TZID=America/New_York:20170214T150000
DTEND;TZID=America/New_York:20170214T170000
LOCATION:TARC
SUMMARY:Life Enrichment Skills
END:VEVENT
END:VCALENDAR
