BEGIN:VCALENDAR
VERSION:2.0
PRODID:-//www.arcnbc.org//NONSGML kigkonsult.se iCalcreator 2.30.10//
CALSCALE:GREGORIAN
METHOD:PUBLISH
UID:4ce1b2e6-e700-4312-ada9-cf8ebac19ef0
X-WR-CALDESC:
X-WR-RELCALID:cce1999420113331e2945d3c85f66f22
X-WR-TIMEZONE:America/New_York
BEGIN:VTIMEZONE
TZID:America/New_York
BEGIN:STANDARD
TZNAME:EST
DTSTART:20161106T020000
TZOFFSETFROM:-0400
TZOFFSETTO:-0500
RDATE:20171105T020000
END:STANDARD
BEGIN:DAYLIGHT
TZNAME:EDT
DTSTART:20160313T020000
TZOFFSETFROM:-0500
TZOFFSETTO:-0400
RDATE:20170312T020000
RDATE:20180311T020000
END:DAYLIGHT
END:VTIMEZONE
BEGIN:VEVENT
UID:df94c946-202c-4876-8805-fdc0c3074a59
DTSTAMP:20260423T165815Z
DESCRIPTION:
DTSTART;TZID=America/New_York:20170217T190000
DTEND;TZID=America/New_York:20170217T210000
LOCATION:Attleboro YMCA Pleasant St. Branch
SUMMARY:GO Night
END:VEVENT
END:VCALENDAR
