BEGIN:VCALENDAR
VERSION:2.0
PRODID:-//www.arcnbc.org//NONSGML kigkonsult.se iCalcreator 2.30.10//
CALSCALE:GREGORIAN
METHOD:PUBLISH
UID:c6fecb0e-cff2-4366-9cca-0248ca72e93c
X-WR-CALDESC:
X-WR-RELCALID:f050dcaf93dc351c1a3cdecb289ecd54
X-WR-TIMEZONE:America/New_York
BEGIN:VTIMEZONE
TZID:America/New_York
BEGIN:STANDARD
TZNAME:EST
DTSTART:20161106T020000
TZOFFSETFROM:-0400
TZOFFSETTO:-0500
RDATE:20171105T020000
END:STANDARD
BEGIN:DAYLIGHT
TZNAME:EDT
DTSTART:20160313T020000
TZOFFSETFROM:-0500
TZOFFSETTO:-0400
RDATE:20170312T020000
RDATE:20180311T020000
END:DAYLIGHT
END:VTIMEZONE
BEGIN:VEVENT
UID:c7cdbf29-103d-4b39-b409-25b09e14ad31
DTSTAMP:20260423T165639Z
DESCRIPTION:
DTSTART;TZID=America/New_York:20170222T160000
DTEND;TZID=America/New_York:20170222T170000
LOCATION:Arc Attleboro
SUMMARY:Karate
END:VEVENT
END:VCALENDAR
