BEGIN:VCALENDAR
VERSION:2.0
PRODID:-//www.arcnbc.org//NONSGML kigkonsult.se iCalcreator 2.30.10//
CALSCALE:GREGORIAN
METHOD:PUBLISH
UID:bbe5d1cb-9b0d-4e48-8eba-e40f8db799f7
X-WR-CALDESC:
X-WR-RELCALID:a80745be7117bd2a2ed58003f7a4098c
X-WR-TIMEZONE:America/New_York
BEGIN:VTIMEZONE
TZID:America/New_York
BEGIN:STANDARD
TZNAME:EST
DTSTART:20161106T020000
TZOFFSETFROM:-0400
TZOFFSETTO:-0500
RDATE:20171105T020000
END:STANDARD
BEGIN:DAYLIGHT
TZNAME:EDT
DTSTART:20160313T020000
TZOFFSETFROM:-0500
TZOFFSETTO:-0400
RDATE:20170312T020000
RDATE:20180311T020000
END:DAYLIGHT
END:VTIMEZONE
BEGIN:VEVENT
UID:1e672b21-967d-46e5-9f50-ff23bb5763fc
DTSTAMP:20260423T165347Z
DESCRIPTION:
DTSTART;TZID=America/New_York:20170222T150000
DTEND;TZID=America/New_York:20170222T170000
LOCATION:TARC
SUMMARY:Bingo
END:VEVENT
END:VCALENDAR
