BEGIN:VCALENDAR
VERSION:2.0
PRODID:-//www.arcnbc.org//NONSGML kigkonsult.se iCalcreator 2.30.10//
CALSCALE:GREGORIAN
METHOD:PUBLISH
UID:c10df099-cf78-4522-8bfe-ca06bcc3b013
X-WR-CALDESC:New Employee Orientation
X-WR-RELCALID:23aeb91a66ce8d404f6c3c4917930e14
X-WR-TIMEZONE:America/New_York
BEGIN:VTIMEZONE
TZID:America/New_York
BEGIN:STANDARD
TZNAME:EST
DTSTART:20161106T020000
TZOFFSETFROM:-0400
TZOFFSETTO:-0500
RDATE:20171105T020000
END:STANDARD
BEGIN:DAYLIGHT
TZNAME:EDT
DTSTART:20160313T020000
TZOFFSETFROM:-0500
TZOFFSETTO:-0400
RDATE:20170312T020000
RDATE:20180311T020000
END:DAYLIGHT
END:VTIMEZONE
BEGIN:VEVENT
UID:49478955-da90-4a5b-bd9c-a64afed1c0e5
DTSTAMP:20260423T165248Z
DESCRIPTION:New Employee Orientation
DTSTART;TZID=America/New_York:20170223T100000
DTEND;TZID=America/New_York:20170223T160000
LOCATION:141 Park Street
SUMMARY:Orientation
END:VEVENT
END:VCALENDAR
