BEGIN:VCALENDAR
VERSION:2.0
PRODID:-//www.arcnbc.org//NONSGML kigkonsult.se iCalcreator 2.30.10//
CALSCALE:GREGORIAN
METHOD:PUBLISH
UID:3bf72ecc-76b7-413d-8056-791d32c850b8
X-WR-CALDESC:
X-WR-RELCALID:3eaff23b9da6d00cbd36d9bdb861595d
X-WR-TIMEZONE:America/New_York
BEGIN:VTIMEZONE
TZID:America/New_York
BEGIN:STANDARD
TZNAME:EST
DTSTART:20161106T020000
TZOFFSETFROM:-0400
TZOFFSETTO:-0500
RDATE:20171105T020000
END:STANDARD
BEGIN:DAYLIGHT
TZNAME:EDT
DTSTART:20160313T020000
TZOFFSETFROM:-0500
TZOFFSETTO:-0400
RDATE:20170312T020000
RDATE:20180311T020000
END:DAYLIGHT
END:VTIMEZONE
BEGIN:VEVENT
UID:75832460-6bb1-47e0-ac5b-f6242fa452f1
DTSTAMP:20260423T165519Z
DESCRIPTION:
DTSTART;TZID=America/New_York:20170301T160000
DTEND;TZID=America/New_York:20170301T170000
LOCATION:Arc Attleboro
SUMMARY:Karate
END:VEVENT
END:VCALENDAR
