BEGIN:VCALENDAR
VERSION:2.0
PRODID:-//www.arcnbc.org//NONSGML kigkonsult.se iCalcreator 2.30.10//
CALSCALE:GREGORIAN
METHOD:PUBLISH
UID:bb3a58a5-8b5e-4d39-91e3-2504f4ef3a05
X-WR-CALDESC:
X-WR-RELCALID:2dc26fd3107c494950ba70e7b4f14cce
X-WR-TIMEZONE:America/New_York
BEGIN:VTIMEZONE
TZID:America/New_York
BEGIN:STANDARD
TZNAME:EST
DTSTART:20161106T020000
TZOFFSETFROM:-0400
TZOFFSETTO:-0500
RDATE:20171105T020000
END:STANDARD
BEGIN:DAYLIGHT
TZNAME:EDT
DTSTART:20160313T020000
TZOFFSETFROM:-0500
TZOFFSETTO:-0400
RDATE:20170312T020000
RDATE:20180311T020000
END:DAYLIGHT
END:VTIMEZONE
BEGIN:VEVENT
UID:7c07a3d5-7872-4943-ad49-a174820bda2e
DTSTAMP:20260423T165521Z
DESCRIPTION:
DTSTART;TZID=America/New_York:20170306T163000
DTEND;TZID=America/New_York:20170306T183000
LOCATION:Arc Attleboro
SUMMARY:Horse Therapy
END:VEVENT
END:VCALENDAR
