BEGIN:VCALENDAR
VERSION:2.0
PRODID:-//www.arcnbc.org//NONSGML kigkonsult.se iCalcreator 2.30.10//
CALSCALE:GREGORIAN
METHOD:PUBLISH
UID:4ec792cc-8a23-4ba8-95b2-a8bed02eb81f
X-WR-CALDESC:
X-WR-RELCALID:f2af98cee961bfb8f8fec119c9e9c29d
X-WR-TIMEZONE:America/New_York
BEGIN:VTIMEZONE
TZID:America/New_York
BEGIN:STANDARD
TZNAME:EST
DTSTART:20161106T020000
TZOFFSETFROM:-0400
TZOFFSETTO:-0500
RDATE:20171105T020000
END:STANDARD
BEGIN:DAYLIGHT
TZNAME:EDT
DTSTART:20160313T020000
TZOFFSETFROM:-0500
TZOFFSETTO:-0400
RDATE:20170312T020000
RDATE:20180311T020000
END:DAYLIGHT
END:VTIMEZONE
BEGIN:VEVENT
UID:d79148b8-8dbc-49ad-96a4-bab26e367e6b
DTSTAMP:20260423T165821Z
DESCRIPTION:
DTSTART;TZID=America/New_York:20170307T180000
DTEND;TZID=America/New_York:20170307T213000
LOCATION:Arc Attleboro
SUMMARY:Dining with the Arc
END:VEVENT
END:VCALENDAR
