BEGIN:VCALENDAR
VERSION:2.0
PRODID:-//www.arcnbc.org//NONSGML kigkonsult.se iCalcreator 2.30.10//
CALSCALE:GREGORIAN
METHOD:PUBLISH
UID:354e1768-835e-4120-b211-0b788cb37a96
X-WR-CALDESC:
X-WR-RELCALID:50e79ab42b22668bac0994fdb8b0ee56
X-WR-TIMEZONE:America/New_York
BEGIN:VTIMEZONE
TZID:America/New_York
BEGIN:STANDARD
TZNAME:EST
DTSTART:20161106T020000
TZOFFSETFROM:-0400
TZOFFSETTO:-0500
RDATE:20171105T020000
END:STANDARD
BEGIN:DAYLIGHT
TZNAME:EDT
DTSTART:20160313T020000
TZOFFSETFROM:-0500
TZOFFSETTO:-0400
RDATE:20170312T020000
RDATE:20180311T020000
END:DAYLIGHT
END:VTIMEZONE
BEGIN:VEVENT
UID:40b7e135-8843-4094-a34b-ed892743399b
DTSTAMP:20260423T165347Z
DESCRIPTION:
DTSTART;TZID=America/New_York:20170308T150000
DTEND;TZID=America/New_York:20170308T170000
LOCATION:TARC
SUMMARY:Bingo
END:VEVENT
END:VCALENDAR
