BEGIN:VCALENDAR
VERSION:2.0
PRODID:-//www.arcnbc.org//NONSGML kigkonsult.se iCalcreator 2.30.10//
CALSCALE:GREGORIAN
METHOD:PUBLISH
UID:15e6e127-245c-4018-809c-559759fab0bc
X-WR-CALDESC:
X-WR-RELCALID:b68e8b57d146264128bce8f92dbcdec8
X-WR-TIMEZONE:America/New_York
BEGIN:VTIMEZONE
TZID:America/New_York
BEGIN:STANDARD
TZNAME:EST
DTSTART:20161106T020000
TZOFFSETFROM:-0400
TZOFFSETTO:-0500
RDATE:20171105T020000
END:STANDARD
BEGIN:DAYLIGHT
TZNAME:EDT
DTSTART:20160313T020000
TZOFFSETFROM:-0500
TZOFFSETTO:-0400
RDATE:20170312T020000
RDATE:20180311T020000
END:DAYLIGHT
END:VTIMEZONE
BEGIN:VEVENT
UID:aa93d535-9597-49d6-b83f-2ca9ed7c1976
DTSTAMP:20260423T165401Z
DESCRIPTION:
DTSTART;TZID=America/New_York:20170309T160000
DTEND;TZID=America/New_York:20170309T210000
LOCATION:Arc Attleboro
SUMMARY:K1 Speed
END:VEVENT
END:VCALENDAR
