BEGIN:VCALENDAR
VERSION:2.0
PRODID:-//www.arcnbc.org//NONSGML kigkonsult.se iCalcreator 2.30.10//
CALSCALE:GREGORIAN
METHOD:PUBLISH
UID:087308d4-a72e-4916-8a67-74ac1cf0fcd4
X-WR-CALDESC:
X-WR-RELCALID:cbfd1ab6542892e3ff4a5b364624acf1
X-WR-TIMEZONE:America/New_York
BEGIN:VTIMEZONE
TZID:America/New_York
BEGIN:STANDARD
TZNAME:EST
DTSTART:20161106T020000
TZOFFSETFROM:-0400
TZOFFSETTO:-0500
RDATE:20171105T020000
END:STANDARD
BEGIN:DAYLIGHT
TZNAME:EDT
DTSTART:20160313T020000
TZOFFSETFROM:-0500
TZOFFSETTO:-0400
RDATE:20170312T020000
RDATE:20180311T020000
END:DAYLIGHT
END:VTIMEZONE
BEGIN:VEVENT
UID:bc158431-6feb-44f7-b4ef-03b99afb0032
DTSTAMP:20260423T165454Z
DESCRIPTION:
DTSTART;TZID=America/New_York:20170311T190000
DTEND;TZID=America/New_York:20170311T210000
LOCATION:Arc Attleboro
SUMMARY:St. Patrick's Dance
END:VEVENT
END:VCALENDAR
