BEGIN:VCALENDAR
VERSION:2.0
PRODID:-//www.arcnbc.org//NONSGML kigkonsult.se iCalcreator 2.30.10//
CALSCALE:GREGORIAN
METHOD:PUBLISH
UID:385329d1-245c-4f1b-af13-31dead0aac8a
X-WR-CALDESC:
X-WR-RELCALID:1837fd1acf6abf1588d1d3c6c48354cc
X-WR-TIMEZONE:America/New_York
BEGIN:VTIMEZONE
TZID:America/New_York
BEGIN:STANDARD
TZNAME:EST
DTSTART:20161106T020000
TZOFFSETFROM:-0400
TZOFFSETTO:-0500
RDATE:20171105T020000
END:STANDARD
BEGIN:DAYLIGHT
TZNAME:EDT
DTSTART:20170312T020000
TZOFFSETFROM:-0500
TZOFFSETTO:-0400
RDATE:20180311T020000
END:DAYLIGHT
END:VTIMEZONE
BEGIN:VEVENT
UID:68c30127-3906-49ca-96a5-968246b9d504
DTSTAMP:20260423T170211Z
DESCRIPTION:
DTSTART;TZID=America/New_York:20170314T150000
DTEND;TZID=America/New_York:20170314T170000
LOCATION:TARC
SUMMARY:Life Enrichment Skills Cancelled
END:VEVENT
END:VCALENDAR
