BEGIN:VCALENDAR
VERSION:2.0
PRODID:-//www.arcnbc.org//NONSGML kigkonsult.se iCalcreator 2.30.10//
CALSCALE:GREGORIAN
METHOD:PUBLISH
UID:81133de9-2833-47bf-84e8-f4e514c92652
X-WR-CALDESC:
X-WR-RELCALID:91407c051291697cc1585cfca348b8b8
X-WR-TIMEZONE:America/New_York
BEGIN:VTIMEZONE
TZID:America/New_York
BEGIN:STANDARD
TZNAME:EST
DTSTART:20161106T020000
TZOFFSETFROM:-0400
TZOFFSETTO:-0500
RDATE:20171105T020000
END:STANDARD
BEGIN:DAYLIGHT
TZNAME:EDT
DTSTART:20170312T020000
TZOFFSETFROM:-0500
TZOFFSETTO:-0400
RDATE:20180311T020000
END:DAYLIGHT
END:VTIMEZONE
BEGIN:VEVENT
UID:821ab73a-ecf1-4e33-af95-bd14d6da7dbb
DTSTAMP:20260423T165920Z
DESCRIPTION:
DTSTART;TZID=America/New_York:20170314T180000
DTEND;TZID=America/New_York:20170314T200000
LOCATION:East Providence Lanes
SUMMARY:Bowling Cancelled
END:VEVENT
END:VCALENDAR
