BEGIN:VCALENDAR
VERSION:2.0
PRODID:-//www.arcnbc.org//NONSGML kigkonsult.se iCalcreator 2.30.10//
CALSCALE:GREGORIAN
METHOD:PUBLISH
UID:352841bd-8d1c-414f-a8e4-39b70d698a2d
X-WR-CALDESC:
X-WR-RELCALID:c2bcfd92dddfb06ba0cb9c288eed07b3
X-WR-TIMEZONE:America/New_York
BEGIN:VTIMEZONE
TZID:America/New_York
BEGIN:STANDARD
TZNAME:EST
DTSTART:20161106T020000
TZOFFSETFROM:-0400
TZOFFSETTO:-0500
RDATE:20171105T020000
END:STANDARD
BEGIN:DAYLIGHT
TZNAME:EDT
DTSTART:20170312T020000
TZOFFSETFROM:-0500
TZOFFSETTO:-0400
RDATE:20180311T020000
END:DAYLIGHT
END:VTIMEZONE
BEGIN:VEVENT
UID:be0fc485-29df-4c39-8e54-7cb30f2f9afd
DTSTAMP:20260423T165638Z
DESCRIPTION:
DTSTART;TZID=America/New_York:20170314T090000
DTEND;TZID=America/New_York:20170314T150000
LOCATION:141 Park Street
SUMMARY:First Aid/CPR Cancelled
END:VEVENT
END:VCALENDAR
