BEGIN:VCALENDAR
VERSION:2.0
PRODID:-//www.arcnbc.org//NONSGML kigkonsult.se iCalcreator 2.30.10//
CALSCALE:GREGORIAN
METHOD:PUBLISH
UID:0f561e7e-758b-4129-9296-cfbd09560a88
X-WR-CALDESC:
X-WR-RELCALID:68140ec5772e22422cb1cd9e81caf99f
X-WR-TIMEZONE:America/New_York
BEGIN:VTIMEZONE
TZID:America/New_York
BEGIN:STANDARD
TZNAME:EST
DTSTART:20161106T020000
TZOFFSETFROM:-0400
TZOFFSETTO:-0500
RDATE:20171105T020000
END:STANDARD
BEGIN:DAYLIGHT
TZNAME:EDT
DTSTART:20170312T020000
TZOFFSETFROM:-0500
TZOFFSETTO:-0400
RDATE:20180311T020000
END:DAYLIGHT
END:VTIMEZONE
BEGIN:VEVENT
UID:522d48a1-0e9f-46a6-b180-f63bf51422cb
DTSTAMP:20260423T183459Z
DESCRIPTION:
DTSTART;TZID=America/New_York:20170315T150000
DTEND;TZID=America/New_York:20170315T170000
LOCATION:TARC
SUMMARY:Arts & Crafts
END:VEVENT
END:VCALENDAR
