BEGIN:VCALENDAR
VERSION:2.0
PRODID:-//www.arcnbc.org//NONSGML kigkonsult.se iCalcreator 2.30.10//
CALSCALE:GREGORIAN
METHOD:PUBLISH
UID:354fd394-0c87-4871-8e70-18c384bac6b1
X-WR-CALDESC:
X-WR-RELCALID:22858680e3f021f06afcbf7a184dea6c
X-WR-TIMEZONE:America/New_York
BEGIN:VTIMEZONE
TZID:America/New_York
BEGIN:STANDARD
TZNAME:EST
DTSTART:20161106T020000
TZOFFSETFROM:-0400
TZOFFSETTO:-0500
RDATE:20171105T020000
END:STANDARD
BEGIN:DAYLIGHT
TZNAME:EDT
DTSTART:20170312T020000
TZOFFSETFROM:-0500
TZOFFSETTO:-0400
RDATE:20180311T020000
END:DAYLIGHT
END:VTIMEZONE
BEGIN:VEVENT
UID:08060470-be65-4200-856b-dff6e6f41eb5
DTSTAMP:20260423T165639Z
DESCRIPTION:
DTSTART;TZID=America/New_York:20170318T103000
DTEND;TZID=America/New_York:20170318T160000
LOCATION:Arc Attleboro
SUMMARY:College LaCrosse
END:VEVENT
END:VCALENDAR
