BEGIN:VCALENDAR
VERSION:2.0
PRODID:-//www.arcnbc.org//NONSGML kigkonsult.se iCalcreator 2.30.10//
CALSCALE:GREGORIAN
METHOD:PUBLISH
UID:178b7c19-93c9-4cee-95f1-3c3a5af130c3
X-WR-CALDESC:
X-WR-RELCALID:1ca4a92bdb3b86df73a083d5dd9a2268
X-WR-TIMEZONE:America/New_York
BEGIN:VTIMEZONE
TZID:America/New_York
BEGIN:STANDARD
TZNAME:EST
DTSTART:20161106T020000
TZOFFSETFROM:-0400
TZOFFSETTO:-0500
RDATE:20171105T020000
END:STANDARD
BEGIN:DAYLIGHT
TZNAME:EDT
DTSTART:20170312T020000
TZOFFSETFROM:-0500
TZOFFSETTO:-0400
RDATE:20180311T020000
END:DAYLIGHT
END:VTIMEZONE
BEGIN:VEVENT
UID:ff20bd8b-7b5f-4480-82a0-489c5e5a3729
DTSTAMP:20260423T165346Z
DESCRIPTION:
DTSTART;TZID=America/New_York:20170318T100000
DTEND;TZID=America/New_York:20170318T140000
LOCATION:proAbility office
SUMMARY:NCI
END:VEVENT
END:VCALENDAR
