BEGIN:VCALENDAR
VERSION:2.0
PRODID:-//www.arcnbc.org//NONSGML kigkonsult.se iCalcreator 2.30.10//
CALSCALE:GREGORIAN
METHOD:PUBLISH
UID:52d0a619-40c0-4f41-bff6-0d092801fd1e
X-WR-CALDESC:
X-WR-RELCALID:c5aeaf0b68724f8512db918598c8187a
X-WR-TIMEZONE:America/New_York
BEGIN:VTIMEZONE
TZID:America/New_York
BEGIN:STANDARD
TZNAME:EST
DTSTART:20161106T020000
TZOFFSETFROM:-0400
TZOFFSETTO:-0500
RDATE:20171105T020000
END:STANDARD
BEGIN:DAYLIGHT
TZNAME:EDT
DTSTART:20170312T020000
TZOFFSETFROM:-0500
TZOFFSETTO:-0400
RDATE:20180311T020000
END:DAYLIGHT
END:VTIMEZONE
BEGIN:VEVENT
UID:1a01129e-df0d-4369-92c8-b3402c6e5915
DTSTAMP:20260423T170113Z
DESCRIPTION:
DTSTART;TZID=America/New_York:20170320T150000
DTEND;TZID=America/New_York:20170320T170000
LOCATION:TARC
SUMMARY:Health & Wellness
END:VEVENT
END:VCALENDAR
